BEGIN:VCALENDAR
VERSION:2.0
PRODID:-//hacksw/handcal//NONSGML v1.0//EN
BEGIN:VEVENT
DTSTAMP:20260726T000000Z
DTSTART:20260726T000000Z
DTEND:20260726T022000Z

SUMMARY:Trap Orchestra Live!
DESCRIPTION:Prepare to experience trap music like never before! Trap Orchestra Live! is an electrifying fusion of classical instrumentation and the hard-hitting beats of your favorite trap songs. Join us for a unique trap concert as one of the best bands takes the city on an unforgettable musical journey!Come out for a night where elegance meets energy, as some of the South’s most talented instrumentalists reimagine your favorite trap anthems with live strings, brass, and percussion, creating a captivating hip hop orchestra experience. This intimate event promises a sophisticated atmosphere, incredible musicianship, and an ambiance that will leave you mesmerized.This event contains adult language. Recommended for ages 21+. 
END:VEVENT
END:VCALENDAR