BEGIN:VCALENDAR
VERSION:2.0
PRODID:-//hacksw/handcal//NONSGML v1.0//EN
BEGIN:VEVENT
DTSTAMP:20260425T233000Z
DTSTART:20260425T233000Z
DTEND:20260426T013000Z

SUMMARY:The Office! A Musical Parody
DESCRIPTION:DIGITAL PROGRAMThe beloved mockumentary reaches a new level of laughs with The Office! A Musical Parody. Fans of the television series will be happy to know that all their favorite characters are on board, as are some key plot elements. When the original British version of The Office premiered in 2001, it brought something completely new to television comedy. Sure, sitcoms had lampooned office culture before, but never with the cringe-inducing level of awkwardness that creators Ricky Gervais and Stephen Merchant allowed their characters to display. Then the American Office became an enormous hit series -- and a comedy landmark. In the hands of writers Bob and Tobly McSmith, the stage version adds an unexpected tuneful touch that takes things to another place entirely, and the outrageousness lives on. General Admission show.The Office! A Musical Parody:Book By: Bob and Tobly McSmithMusic & Orchestrations by: Assaf Gleizner This event contains adult language or content.  
END:VEVENT
END:VCALENDAR