BEGIN:VCALENDAR
VERSION:2.0
PRODID:-//hacksw/handcal//NONSGML v1.0//EN
BEGIN:VEVENT
DTSTAMP:20260514T233000Z
DTSTART:20260514T233000Z
DTEND:20260515T013000Z

SUMMARY:The Calling
DESCRIPTION:The Calling is an American rock band from Los Angeles, formed in 1996 by lead singer Alex Band and guitarist Aaron Kamin. Best known for their 2001 hit single "Wherever You Will Go," which topped the Adult Top 40 for 23 weeks, they gained fame with their debut album, Camino Palmero. Known for melodic, radio-friendly rock, they released two albums before breaking up, with Band reforming the group in 2013.
END:VEVENT
END:VCALENDAR