BEGIN:VCALENDAR
VERSION:2.0
PRODID:-//hacksw/handcal//NONSGML v1.0//EN
BEGIN:VEVENT
DTSTAMP:20260516T230000Z
DTSTART:20260516T230000Z
DTEND:20260517T010000Z

SUMMARY:Sal Vulcano
DESCRIPTION:This “impractical joker” is going solo on his newest national tour. Best known for co-creating and starring in the smash-hit comedy show Impractical Jokers, comedian Sal Vulcano brings a unique spin on his stand-up with hilarious yet personal stories in this new run. In 2024, Sal&#39;s debut special, Terrified, premiered, garnering over one million views within the first weeks of its release, currently pacing for 2M views just a few months later.Sal also tours with his Impractical Jokers co-stars, selling out countless arenas over the years.This event contains adult language or content.
END:VEVENT
END:VCALENDAR