BEGIN:VCALENDAR
VERSION:2.0
PRODID:-//hacksw/handcal//NONSGML v1.0//EN
BEGIN:VEVENT
DTSTAMP:20260724T233000Z
DTSTART:20260724T233000Z
DTEND:20260725T013000Z

SUMMARY:Pour Minds Podcast: Still Sippin' Tour
DESCRIPTION:Houstonians turned ATL residents, Drea Nicole and Lex P aren&#39;t just cohosts – they’re best friends navigating life, love, and everything in between together. Pour Minds podcast brings listeners along for the ride with weekly conversations covering relationships, music, and what it’s like hitting your 30s in today&#39;s world.Since starting the podcast in 2018, Pour Minds has skyrocketed to nearly 200K subscribers, resonating with a fan base of half a million and counting. Their secret? Authenticity. By keeping it real with their unfiltered takes on the hottest topics, Drea and Lex have built a loyal and ever-growing community. They’ve earned spots on major platforms such as Power 105.1’s The Breakfast Club, Amazon’s AMP live radio, The 2024 Essence Music Festival, Roots Picnic, The 2024 BET Awards, and The Black Effect Podcast stage, to name a few.As the authors of the e-book and video course, Pour Into Your Pod, Drea and Lex share their secrets to building a successful podcast brand, helping others follow in their footsteps. Signed to 85 South Media, the Pour Minds duo continues to make waves across the podcasting world. Tune in every Friday at 7 PM on YouTube, Spotify, and Apple Podcasts to catch their latest episode.This event contains adult language or content. This show is recommended for ages 18 and up.VIP Post Show Meet and Greet tickets available to add on to any ticket. 
END:VEVENT
END:VCALENDAR