BEGIN:VCALENDAR
VERSION:2.0
PRODID:-//hacksw/handcal//NONSGML v1.0//EN
BEGIN:VEVENT
DTSTAMP:20261209T000000Z
DTSTART:20261209T000000Z
DTEND:20261209T014500Z

SUMMARY:The Nutcracker: Symphony of Lights
DESCRIPTION:THIS EVENT IS AT THE ROSE AND ALFRED MINIACI PERFORMING ARTS CENTER, AN AFFILIATED VENUE OF BROWARD CENTER FOR THE PERFORMING ARTS ON THE NOVA SOUTHEASTERN UNIVERSITY CAMPUS.“The Nutcracker: Symphony of Lights” is the landmark event of the upcoming season. Tchaikovsky’s famous score opens the door to a completely reimagined world: glowing costumes and world-class performers transform the classic tale into a captivating visual journey.This is more than a performance — it’s a full immersion into a story of wonder and transformation, told through light, movement, and sound.Each scene emerges like a living work of art, where holiday tradition meets bold contemporary design.Discover The Nutcracker in a new light — a legend reborn with dazzling spectacle and emotional depth.
END:VEVENT
END:VCALENDAR