BEGIN:VCALENDAR
VERSION:2.0
PRODID:-//hacksw/handcal//NONSGML v1.0//EN
BEGIN:VEVENT
DTSTAMP:20270130T000000Z
DTSTART:20270130T000000Z
DTEND:20270130T013000Z

SUMMARY:Mutts Gone Nuts: Mutts, Magic and Mayhem!
DESCRIPTION:THIS EVENT IS AT THE ROSE AND ALFRED MINIACI PERFORMING ARTS CENTER, AN AFFILIATED VENUE OF BROWARD CENTER FOR THE PERFORMING ARTS ON THE NOVA SOUTHEASTERN UNIVERSITY CAMPUS.Where dogs and laughter take center stage!A SELLOUT performance last year, be sure to get your tickets early for this "back by popular demand" show for FIVE straight years!Imagine a dozen of the world’s most talented four-legged performers, in an uproariously funny, comedy dog spectacular that is leaving audiences everywhere howling for more!  The all-star lineup includes a Guinness World Record holder, and an America’s Got Talent fan favorite, and a host of amazing rescue dogs that will dance, prance, flip, and skip their way right into your heart.Deemed “A must see” by The Washington Post, Mutts Gone Nuts: Mutts, Magic and Mayhem!  is sure to win Best in Show!Parking is available in the NSU Alvin Sherman Library parking garage for $1.00 per hour via PayByPhone.com App or kiosk located at the 1st floor elevators. Before you go to the show, visit MiniaciPAC.com/visit for more info on directions to the NSU campus, parking and FAQ. Use 3051 Ray Ferrero Jr Blvd, Davie, FL 33314 in your map or GPS app.
END:VEVENT
END:VCALENDAR