BEGIN:VCALENDAR
VERSION:2.0
PRODID:-//hacksw/handcal//NONSGML v1.0//EN
BEGIN:VEVENT
DTSTAMP:20260508T230000Z
DTSTART:20260508T230000Z
DTEND:20260509T012000Z

SUMMARY:Aladdin
DESCRIPTION:Step into the streets of Agrabah like you’ve never seen before—where the beats drop, the rhymes flow, and the story of Aladdin gets a fresh hip-hop twist. This high-energy production blends classic songs with urban choreography!Follow Aladdin, a street-smart dreamer, as he spins his way through adventure, friendship, and self-discovery—joined by the bold and independent Princess Jasmine and the larger-than-life Genie, who keeps the crowd hyped!With vibrant costumes, rhythmic storytelling, and a soundtrack infused with hip-hop flair, this version of Disney&#39;s Aladdin Jr. turns a classic tale into a special homage. Get ready for magic, music, and moves that will leave you cheering! 
END:VEVENT
END:VCALENDAR