BEGIN:VCALENDAR
VERSION:2.0
PRODID:-//hacksw/handcal//NONSGML v1.0//EN
BEGIN:VEVENT
DTSTAMP:20261116T000000Z
DTSTART:20261116T000000Z
DTEND:20261116T010000Z

SUMMARY:Floyd Nation: Inner Light Tour
DESCRIPTION:Floyd Nation returns with The Inner Light Tour, a powerful, immersive live experience built around the music that defined a generation. Featuring iconic songs like Wish You Were Here, Comfortably Numb, Time, and Another Brick in the Wall, the show delivers the sound, emotion, and atmosphere audiences expect while expanding far beyond a traditional tribute. Recorded in part at Abbey Road Studios, Floyd Nation’s new album, Inner Light, serves as the creative backbone of this tour. The performance weaves these original compositions seamlessly into Pink Floyd’s most celebrated works, creating a continuous musical journey that feels both familiar and entirely new.This is not a note-for-note recreation. Floyd Nation is known for capturing the feel of Pink Floyd, the space, the tension, the release, while allowing the music to breathe and evolve in a live setting. Extended arrangements, dynamic transitions, and thoughtful improvisation give each performance a sense of discovery. What truly sets The Inner Light Tour apart is its immersive production. Through layered lighting, atmospheric projection, and cinematic staging, the band transforms the stage into a living environment, pulling the audience inside the music rather than simply performing it. The result is a show that moves with intention: familiar moments that draw you in, deeper cuts that reward longtime fans, and new material that expands the story. With a lineup of world-class musicians and a commitment to both authenticity and innovation, Floyd Nation delivers a performance that resonates across generations. You will hear the songs you came for. You will leave with something you did not expect.
END:VEVENT
END:VCALENDAR