BEGIN:VCALENDAR
VERSION:2.0
PRODID:-//hacksw/handcal//NONSGML v1.0//EN
BEGIN:VEVENT
DTSTAMP:20260719T180000Z
DTSTART:20260719T180000Z
DTEND:20260719T200000Z

SUMMARY:Bluey's Big Play
DESCRIPTION:When Dad feels like a little bit of Sunday afternoon time out, Bluey and Bingo have other plans! Join them as they pull out all of the games and cleverness at their disposal to get Dad off that bean bag. Bluey&#39;s Big Play is a brand-new theatrical adaptation of the Emmy® Award-winning children&#39;s television series, with an original story by Bluey creator Joe Brumm, and new music by Bluey composer, Joff Bush. Join the Heelers in their first live theatre show made just for you, featuring brilliantly created puppets; this is Bluey as you&#39;ve never seen it before, brought to real life. Bluey&#39;s Big Play is presented by BBC Studios and Andrew Kay in association with Windmill Theatre Co.Lap Tickets are available for purchase for children 12 months and under and only available at the Broward Center&#39;s AutoNation Box Office. Everyone in the theater must have a ticket.VIP Package available. 
END:VEVENT
END:VCALENDAR