BEGIN:VCALENDAR
VERSION:2.0
PRODID:-//hacksw/handcal//NONSGML v1.0//EN
BEGIN:VEVENT
DTSTAMP:20260516T210000Z
DTSTART:20260516T210000Z
DTEND:20260516T230000Z

SUMMARY:The Mixtape Live - Broadway Kids Studio's Annual Showcase
DESCRIPTION:THIS EVENT IS AT THE ROSE & ALFRED MINIACI PERFORMING ARTS CENTER, AN AFFILIATED VENUE OF BROWARD CENTER FOR THE PERFORMING ARTS ON THE NOVA SOUTHEASTERN UNIVERSITY CAMPUS.PRESENTED AND PERFORMED BY STUDENTS OF BROADWAY KIDS STUDIO.Join us for The Mixtape Live, Broadway Kids Studio&#39;s exciting annual Showcase celebrating the talent, growth, and passion of our students ages 2 to 18! From first-time performers to seasoned dancers and singers with over a decade of experience, this high-energy event features a wide range of performances including jazz, tap, ballet, hip hop, contemporary dances, and vocalists.Audiences will enjoy both recreational and award-winning competition routines in a vibrant, family-friendly atmosphere. The Mixtape Live is a joyful and inspiring celebration of movement, music, and the hard work of our incredible young performers. Don&#39;t miss this unforgettable day of entertainment and creativity!Parking is available in the NSU Alvin Sherman Library parking garage for $1.00 per hour via PayByPhone.com App or kiosk located at the 1st floor elevators. Before you go to the show, visit MiniaciPAC.com/visit for more info on directions to the NSU campus, parking and FAQ. Use 3051 Ray Ferrero Jr Blvd, Davie, FL 33314 in your map or GPS app.
END:VEVENT
END:VCALENDAR