BEGIN:VCALENDAR
VERSION:2.0
PRODID:-//hacksw/handcal//NONSGML v1.0//EN
BEGIN:VEVENT
DTSTAMP:20260530T213000Z
DTSTART:20260530T213000Z
DTEND:20260530T233000Z

SUMMARY:ASTRID AUDET ACADEMY: DANCING TROUGH THE DECADES
DESCRIPTION:Welcome to the Astrid Audet Academy of Ballet and More’s annual recital production as we celebrate our 20th Year Anniversary! This year we invite you to step into the Party as we celebrate “Dancing Through The Decades” in the 20th and 21st centuries. You will be entertained by famous songs and themes from all genres of dance so be prepared to be amazed by a vibrant celebration of dance, music, and artistry.Our talented students, from the tiniest baby ballerinas to our most accomplished graduating seniors, will take you on an unforgettable journey through captivating performances that embody the joy and excitement of dance. Sit back, relax, and let us transport you into a world of wonder and enchantment as we celebrate the beauty and diversity of dance! 
END:VEVENT
END:VCALENDAR